BEGIN:VCALENDAR
VERSION:2.0
PRODID:-//SJF - ECPv6.15.16.1//NONSGML v1.0//EN
CALSCALE:GREGORIAN
METHOD:PUBLISH
X-WR-CALNAME:SJF
X-ORIGINAL-URL:https://jazzsuriname.com
X-WR-CALDESC:Events for SJF
REFRESH-INTERVAL;VALUE=DURATION:PT1H
X-Robots-Tag:noindex
X-PUBLISHED-TTL:PT1H
BEGIN:VTIMEZONE
TZID:America/Sao_Paulo
BEGIN:STANDARD
TZOFFSETFROM:-0300
TZOFFSETTO:-0300
TZNAME:-03
DTSTART:20220101T000000
END:STANDARD
END:VTIMEZONE
BEGIN:VEVENT
DTSTART;TZID=America/Sao_Paulo:20241027T170000
DTEND;TZID=America/Sao_Paulo:20241027T230000
DTSTAMP:20260423T173935
CREATED:20231012T192938Z
LAST-MODIFIED:20241024T191346Z
UID:4050-1730048400-1730070000@jazzsuriname.com
SUMMARY:Cozy & Jazzy Sunset by the Waves
DESCRIPTION:Festival Schedule: \n6:00 PM – Opening performance Workshop Students (30 minutes) \n6:30 PM – Intermission (15 minutes) \n6:45 PM – Performance by Estudiantina Ensemble (1 hour) \n7:45 PM – Intermission (15 minutes) \n8:00 PM – Performance by D’Orkest (1 hour) \n9:00 PM – Intermission (15 minutes) \n9:15 PM – Performance by Ronald Snijders & Band (1 hour) \n10:15 PM – End of the festival
URL:https://jazzsuriname.com/event/main-festival-day/
LOCATION:Courtyard by Marriot\, Anton Drachtenweg 50-54\, Paramaribo\, Suriname
CATEGORIES:Event
ATTACH;FMTTYPE=image/png:https://jazzsuriname.com/wp-content/uploads/2023/10/Untitled-800-x-858-px-1.png
ORGANIZER;CN="SJF":MAILTO:surinamejazz@gmail.com
END:VEVENT
BEGIN:VEVENT
DTSTART;TZID=America/Sao_Paulo:20241025T190000
DTEND;TZID=America/Sao_Paulo:20241025T230000
DTSTAMP:20260423T173935
CREATED:20231012T192318Z
LAST-MODIFIED:20241016T220308Z
UID:4043-1729882800-1729897200@jazzsuriname.com
SUMMARY:Opening Night of the Jazz Festival
DESCRIPTION:We’re kicking off this year’s Jazz Festival at none other than our beloved 22 Jazz Club! Join us for a vibrant evening where we’ll introduce this year’s incredible lineup of performers and give you an exclusive sneak peek of our Jazz Documentary\, showcasing the highlights of last year’s festival. \nWe’ll also pay tribute to the late Pablo Nahar\, honoring his legacy. And of course\, it wouldn’t be an opening night without our traditional jam session—calling all instrumentalists and vocalists to join in! \nCome be part of the magic!
URL:https://jazzsuriname.com/event/opening-suriname-jazz-festival/
LOCATION:The 22 Jazz Club\, van sommelsdijckstraat 22\, Paramaribo\, Suriname
CATEGORIES:Event
ATTACH;FMTTYPE=image/jpeg:https://jazzsuriname.com/wp-content/uploads/2023/10/Bastion-22-Custom.jpg
ORGANIZER;CN="SJF":MAILTO:surinamejazz@gmail.com
END:VEVENT
BEGIN:VEVENT
DTSTART;TZID=America/Sao_Paulo:20231028T200000
DTEND;TZID=America/Sao_Paulo:20231028T233000
DTSTAMP:20260423T173935
CREATED:20231012T192649Z
LAST-MODIFIED:20231023T175743Z
UID:4046-1698523200-1698535800@jazzsuriname.com
SUMMARY:Day Two Suriname Jazz Festival
DESCRIPTION:
URL:https://jazzsuriname.com/event/day-2-suriname-jazz-festival/
LOCATION:Het Bastion\, VWM4+5WG\, Nieuw Amsterdam\, Suriname
CATEGORIES:Event
ATTACH;FMTTYPE=image/png:https://jazzsuriname.com/wp-content/uploads/2023/10/2-1.png
ORGANIZER;CN="SJF":MAILTO:surinamejazz@gmail.com
END:VEVENT
END:VCALENDAR